BEGIN:VCALENDAR
VERSION:2.0
PRODID:-//ENCCS - ECPv6.15.16//NONSGML v1.0//EN
CALSCALE:GREGORIAN
METHOD:PUBLISH
X-ORIGINAL-URL:https://enccs.se
X-WR-CALDESC:Events for ENCCS
REFRESH-INTERVAL;VALUE=DURATION:PT1H
X-Robots-Tag:noindex
X-PUBLISHED-TTL:PT1H
BEGIN:VTIMEZONE
TZID:Europe/Stockholm
BEGIN:DAYLIGHT
TZOFFSETFROM:+0100
TZOFFSETTO:+0200
TZNAME:CEST
DTSTART:20210328T010000
END:DAYLIGHT
BEGIN:STANDARD
TZOFFSETFROM:+0200
TZOFFSETTO:+0100
TZNAME:CET
DTSTART:20211031T010000
END:STANDARD
BEGIN:DAYLIGHT
TZOFFSETFROM:+0100
TZOFFSETTO:+0200
TZNAME:CEST
DTSTART:20220327T010000
END:DAYLIGHT
BEGIN:STANDARD
TZOFFSETFROM:+0200
TZOFFSETTO:+0100
TZNAME:CET
DTSTART:20221030T010000
END:STANDARD
BEGIN:DAYLIGHT
TZOFFSETFROM:+0100
TZOFFSETTO:+0200
TZNAME:CEST
DTSTART:20230326T010000
END:DAYLIGHT
BEGIN:STANDARD
TZOFFSETFROM:+0200
TZOFFSETTO:+0100
TZNAME:CET
DTSTART:20231029T010000
END:STANDARD
END:VTIMEZONE
BEGIN:VEVENT
DTSTART;TZID=Europe/Stockholm:20221004T080000
DTEND;TZID=Europe/Stockholm:20221007T130000
DTSTAMP:20260423T080921
CREATED:20220929T112702Z
LAST-MODIFIED:20241031T070210Z
UID:17264-1664870400-1665147600@enccs.se
SUMMARY:HPC for research and development - EuroCC Latvia/ENCCS
DESCRIPTION:Overview\n\n\n\nWe invite you to take part in a scientific workshop “HPC for research and development” taking place from October 4 to October 6 at “Avalon hotel Riga” (Address: 13th January street 19\, Riga\, Latvia). \n\n\n\nEach day will be dedicated to a specific topic – achievements and prospects\, best practices in Europe on training and education\, as well as oven-ready HPC applications. \n\n\n\nWe invite everyone – scientists and other members of academia\, public sector representatives\, as well as industry – to take part in the workshop. The agenda will be relevant to everyone interested in scientific achievements and their practical use in different fields. \n\n\n\nDuring the scientific workshop\, participants will be introduced to opportunities given by HPC at different centres of excellence in Europe as well as achievements in Latvia. Practical examples for using the HPC will be given as well. \n\n\n\nThe event is planned on-site\, however\, there will be a possibility to join via Zoom platform. The link will be sent to registered participants who will have chosen the option to participate remotely. \n\n\n\nIn order to take part\, please register using this link https://www.eventbrite.fi/e/scientific-workshop-hpc-for-research-and-development-tickets-425646388807?aff=ebdssbdestsearch. \n\n\n\nAgenda\n\n\n\nFor updated agenda please visit the event’s webpage by following this link https://eurocc-latvia.lv/workshop-hpc-for-research-and-development/?lang=en.
URL:https://enccs.se/events/hpc-for-research-and-development/
CATEGORIES:Collaboration Event,ENCCS Event
ATTACH;FMTTYPE=image/png:https://media.enccs.se/2022/09/October-4-6-2022-Riga-Latvia-3-845x684-1.png
END:VEVENT
END:VCALENDAR