BEGIN:VCALENDAR
VERSION:2.0
PRODID:-//ENCCS - ECPv6.15.16//NONSGML v1.0//EN
CALSCALE:GREGORIAN
METHOD:PUBLISH
X-WR-CALNAME:ENCCS
X-ORIGINAL-URL:https://enccs.se
X-WR-CALDESC:Events for ENCCS
REFRESH-INTERVAL;VALUE=DURATION:PT1H
X-Robots-Tag:noindex
X-PUBLISHED-TTL:PT1H
BEGIN:VTIMEZONE
TZID:Europe/Stockholm
BEGIN:DAYLIGHT
TZOFFSETFROM:+0100
TZOFFSETTO:+0200
TZNAME:CEST
DTSTART:20220327T010000
END:DAYLIGHT
BEGIN:STANDARD
TZOFFSETFROM:+0200
TZOFFSETTO:+0100
TZNAME:CET
DTSTART:20221030T010000
END:STANDARD
BEGIN:DAYLIGHT
TZOFFSETFROM:+0100
TZOFFSETTO:+0200
TZNAME:CEST
DTSTART:20230326T010000
END:DAYLIGHT
BEGIN:STANDARD
TZOFFSETFROM:+0200
TZOFFSETTO:+0100
TZNAME:CET
DTSTART:20231029T010000
END:STANDARD
BEGIN:DAYLIGHT
TZOFFSETFROM:+0100
TZOFFSETTO:+0200
TZNAME:CEST
DTSTART:20240331T010000
END:DAYLIGHT
BEGIN:STANDARD
TZOFFSETFROM:+0200
TZOFFSETTO:+0100
TZNAME:CET
DTSTART:20241027T010000
END:STANDARD
END:VTIMEZONE
BEGIN:VEVENT
DTSTART;TZID=Europe/Stockholm:20230509T090000
DTEND;TZID=Europe/Stockholm:20230511T160000
DTSTAMP:20260422T205709
CREATED:20230417T121031Z
LAST-MODIFIED:20230417T121214Z
UID:24326-1683622800-1683820800@enccs.se
SUMMARY:CodeRefinery Best Practices Workshop
DESCRIPTION:Do you write code for your research? Do you manage data? Most importantly\, are you doing it properly? Has it ever happened to you to have to rewrite or simply copy-paste codes from one folder to another\, possibly losing things during the process? Have you ever opened an old code you wrote and had no clue what it does? Maybe you feel you waste a lot of time doing a lot of manual work to process your data and would like to automate it? Or maybe you also are not doing any of this yet\, but would like to avoid these issues from happening in the future and do things properly from the beginning? \n\n\n\nIf you answered yes to any of the previous questions\, then you are strongly encouraged to participate in the CodeRefinery workshop in Uppsala on May 9-11\, 2023. \n\n\n\nENCCS will provide helpers at the workshop. \n\n\n\nTopics\n\n\n\n\nUsing Git to maintain your codes and collaborate with others\n\n\n\nPrinciples of reproducible research and FAIR\n\n\n\nGood coding practices in general (writing documentation\, testing\, how to choose an appropriate license)\n\n\n\nThe Workshop will not teach you to code\, but all the “good practice skills” that are needed to write good maintainable software and achieve reproducible research.\n\n\n\n\nThe workshop will alternate between type-along tutorials and hands-on exercises. You may register for parts of the workshop. \n\n\n\nRegistration\n\n\n\nMore information and the registration form may be found on the workshop page: https://coderefinery.github.io/2023-05-09-uppsala \n\n\n\nFollow our Events Schedule\n\n\n\nFollow us on Twitter and subscribe to our Newsletter to stay tuned to our events and other news.
URL:https://enccs.se/events/2023-05-coderefinery-best-practices/
LOCATION:Ångström laboratory\, Uppsala\, Sweden\, Lägerhyddsvägen 1\, Uppsala\, 752 37\, Sweden
CATEGORIES:Collaboration Event
ATTACH;FMTTYPE=image/jpeg:https://media.enccs.se/2020/11/Coderefinery-3D-icon.jpg
END:VEVENT
END:VCALENDAR