BEGIN:VCALENDAR
VERSION:2.0
PRODID:-//ENCCS - ECPv6.15.16//NONSGML v1.0//EN
CALSCALE:GREGORIAN
METHOD:PUBLISH
X-WR-CALNAME:ENCCS
X-ORIGINAL-URL:https://enccs.se
X-WR-CALDESC:Events for ENCCS
REFRESH-INTERVAL;VALUE=DURATION:PT1H
X-Robots-Tag:noindex
X-PUBLISHED-TTL:PT1H
BEGIN:VTIMEZONE
TZID:Europe/Stockholm
BEGIN:DAYLIGHT
TZOFFSETFROM:+0100
TZOFFSETTO:+0200
TZNAME:CEST
DTSTART:20220327T010000
END:DAYLIGHT
BEGIN:STANDARD
TZOFFSETFROM:+0200
TZOFFSETTO:+0100
TZNAME:CET
DTSTART:20221030T010000
END:STANDARD
BEGIN:DAYLIGHT
TZOFFSETFROM:+0100
TZOFFSETTO:+0200
TZNAME:CEST
DTSTART:20230326T010000
END:DAYLIGHT
BEGIN:STANDARD
TZOFFSETFROM:+0200
TZOFFSETTO:+0100
TZNAME:CET
DTSTART:20231029T010000
END:STANDARD
BEGIN:DAYLIGHT
TZOFFSETFROM:+0100
TZOFFSETTO:+0200
TZNAME:CEST
DTSTART:20240331T010000
END:DAYLIGHT
BEGIN:STANDARD
TZOFFSETFROM:+0200
TZOFFSETTO:+0100
TZNAME:CET
DTSTART:20241027T010000
END:STANDARD
END:VTIMEZONE
BEGIN:VEVENT
DTSTART;TZID=Europe/Stockholm:20230928T090000
DTEND;TZID=Europe/Stockholm:20230929T120000
DTSTAMP:20260422T143554
CREATED:20230628T121621Z
LAST-MODIFIED:20241031T070237Z
UID:26259-1695891600-1695988800@enccs.se
SUMMARY:Best practices in HPC training
DESCRIPTION:This instructor training workshop is focused on helping competent practitioners and experts in various fields teach their knowledge to others. It also serves a kickstart to teaching ENCCS lessons. The two-half-day online workshop will present best practices in teaching technical topics both online and in-person and is based on past experiences from both ENCCS and well-known educational initiatives like The Carpentries and CodeRefinery. It will include a brief tour of the following topics: \n\n\n\n\nScience and philosophy of teaching\n\n\n\nHow to teach interactive\, hands-on workshops\n\n\n\nHow to design interactive\, hands-on lessons\n\n\n\nHow ENCCS runs workshops\n\n\n\nHow ENCCS has taken the best advantage of online teaching\n\n\n\n\nThis workshop is organised by ENCCS\, NCC Lithuania and CASTIEL. \n\n\n\nAfter attending a workshop covering this material\, learners should: \n\n\n\n\nHave increased confidence in teaching interactive workshops in online and in-person settings. \n\n\n\nBe familiar with important pedagogical concepts and scientific findings about how people learn new skills.\n\n\n\nAppreciate the importance of frequent hands-on practice in building skill.\n\n\n\nUnderstand how learning can be improved by following certain best practices in interactive teaching.\n\n\n\nKnow how to backwards-design training material based on intended learning outcomes.\n\n\n\nKnow about important differences between online and in-person training and how inherent challenges in online training can be overcome.\n\n\n\nBe familiar with a technical approach to collaboratively developing open source lessons based on a template.\n\n\n\n\nAgenda\n\n\n\nDay 1  \n\n\n\n[ninja_tables id=”27742″]\n\n\n\nDay 2 \n\n\n\n[ninja_tables id=”27743″]\n\n\n\nRegistration\n\n\n\nRegistration is now closed.
URL:https://enccs.se/events/best-practices-in-online-and-in-person-training/
LOCATION:Online
CATEGORIES:Collaboration Event,ENCCS Event
ATTACH;FMTTYPE=image/jpeg:https://media.enccs.se/2023/06/Screenshot-2023-06-29-at-11.00.00.jpg
END:VEVENT
END:VCALENDAR