BEGIN:VCALENDAR
VERSION:2.0
PRODID:-//ENCCS - ECPv6.15.16//NONSGML v1.0//EN
CALSCALE:GREGORIAN
METHOD:PUBLISH
X-ORIGINAL-URL:https://enccs.se
X-WR-CALDESC:Events for ENCCS
REFRESH-INTERVAL;VALUE=DURATION:PT1H
X-Robots-Tag:noindex
X-PUBLISHED-TTL:PT1H
BEGIN:VTIMEZONE
TZID:Europe/Stockholm
BEGIN:DAYLIGHT
TZOFFSETFROM:+0100
TZOFFSETTO:+0200
TZNAME:CEST
DTSTART:20230326T010000
END:DAYLIGHT
BEGIN:STANDARD
TZOFFSETFROM:+0200
TZOFFSETTO:+0100
TZNAME:CET
DTSTART:20231029T010000
END:STANDARD
BEGIN:DAYLIGHT
TZOFFSETFROM:+0100
TZOFFSETTO:+0200
TZNAME:CEST
DTSTART:20240331T010000
END:DAYLIGHT
BEGIN:STANDARD
TZOFFSETFROM:+0200
TZOFFSETTO:+0100
TZNAME:CET
DTSTART:20241027T010000
END:STANDARD
BEGIN:DAYLIGHT
TZOFFSETFROM:+0100
TZOFFSETTO:+0200
TZNAME:CEST
DTSTART:20250330T010000
END:DAYLIGHT
BEGIN:STANDARD
TZOFFSETFROM:+0200
TZOFFSETTO:+0100
TZNAME:CET
DTSTART:20251026T010000
END:STANDARD
END:VTIMEZONE
BEGIN:VEVENT
DTSTART;TZID=Europe/Stockholm:20241021T100000
DTEND;TZID=Europe/Stockholm:20241022T160000
DTSTAMP:20260421T161753
CREATED:20240826T184658Z
LAST-MODIFIED:20241031T070402Z
UID:35535-1729504800-1729612800@enccs.se
SUMMARY:Best Practices in HPC Training (online)
DESCRIPTION:Register now!\n\n\n\n\n\n\nThe Best Practices in HPC training workshop focuses on helping competent practitioners and experts in various fields teach their knowledge to others. It also serves as a kickstart to teaching available open-source training material from ENCCS and other training providers. The two-half-day online workshop will present best practices in teaching technical topics both online and in-person and is based on past experiences from ENCCS and well-known educational initiatives like The Carpentries and CodeRefinery. It will include a brief tour of the following topics: \n\n\n\n\nScience and philosophy of teaching\n\n\n\nHow to teach interactive\, hands-on workshops\n\n\n\nHow to design interactive\, hands-on lessons\n\n\n\n\n\n\n\n\nENCCS came together with NCC Lithuania\, NCC Finland and the MultiXscale Centre of Excellence to organise this workshop. \n\n\n\nKey outcomes \n\n\n\nAfter attending this workshop\, you will: \n\n\n\n\nHave increased confidence in teaching interactive workshops in online and in-person settings.\n\n\n\nBe familiar with important pedagogical concepts and scientific findings about how people learn new skills.\n\n\n\nAppreciate the importance of frequent hands-on practice in building skill.\n\n\n\nUnderstand how learning can be improved by following certain best practices in interactive teaching.\n\n\n\nKnow how to backwards-design training material based on intended learning outcomes.\n\n\n\nKnow about important differences between online and in-person training and how inherent challenges in online training can be overcome.\n\n\n\nBe familiar with a technical approach to collaboratively developing open source lessons based on a template.\n\n\n\n\nAgenda\n\n\n\nMonday 21 Oct 2024 \n\n\n\n\n\n\n	 Time           Episode                                                                                                                     Teaching/interaction\, min \n\n\n\n\n	10:00-10:15  Welcome and introduction                                                                                                    15\n\n\n	 10:15-10:30 Training providers                                                                                                          10 + 5\n\n\n	 10:30-10:45 Learning theories 10 + 5\n\n\n	 10:45-11:00  First teaching practice                                                                                                     15 + 30\n\n\n	 11:00-11:15  Break                                                                                                                      \n\n\n	 11:15-11:45    First teaching practice cntd.                                                                                               15 + 30\n\n\n	 11:45-12:45  Lunch break                                                                                                                \n\n\n	 12:45-13:30    Acquisition of skill                                                                                                        20 + 25\n\n\n	 13:30-13:40    Break                                                                                                                      \n\n\n	 13:40-14:20  Lesson design                                                                                                               20 + 20\n\n\n	 Afternoon      Practice backwards design – homework  45\n\n\n\n\n\n\nTuesday 22 Oct 2024 \n\n\n\n\n\n\n	 Time Episode Teaching/interaction\, min \n\n\n\n\n	 10:00-10:10 Recap and discussion on Practice backwards design 10 + 0\n\n\n	 10:10-11:00  Good interactive teaching practices               20 + 30\n\n\n	 11:00-11:15  Break                                             \n\n\n	 11:15-11:30  Teaching mechanics                                10 + 5\n\n\n	 11:30-12:30  Lunch break                                       \n\n\n	 12:30-13:00 Collaborative lesson development	10 + 20\n\n\n	 13:00-14:00Practice: teaching and giving feedback10 + 50\n\n\n	 14:00-14:15 Break\n\n\n	 14:15-17:15 The HPC Training Ecosystem in EuropeSeparate registration required\n\n\n\n\n\n\nENCCS Lessons\n\n\n\nThe Best Practices in HPC training is just one of our lessons. Have a look at ENCCS lesson materials where you can find multiple lessons on GPU programming\, data analysis\, HPC optimisation\, and more! \n\n\n\n\n\n\n\nRestrictions\n\n\n\nDue to EuroCC2 regulations\, we CAN NOT ACCEPT generic or private email addresses. Please use your official university or company email address for registration. \n\n\n\nThis training is for users who live and work in the European Union or a country associated with Horizon 2020. You can read more about the countries associated with Horizon2020 here https://ec.europa.eu/info/research-and-innovation/statistics/framework-programme-facts-and-figures/horizon-2020-country-profiles_e
URL:https://enccs.se/events/best-practices-in-hpc-training/
CATEGORIES:Collaboration Event,ENCCS Event
ATTACH;FMTTYPE=image/jpeg:https://media.enccs.se/2024/08/best-practices-hpc-training-43.jpg
END:VEVENT
BEGIN:VEVENT
DTSTART;TZID=Europe/Stockholm:20241022T141500
DTEND;TZID=Europe/Stockholm:20241022T171500
DTSTAMP:20260421T161753
CREATED:20241002T140223Z
LAST-MODIFIED:20241031T070411Z
UID:35901-1729606500-1729617300@enccs.se
SUMMARY:The HPC Training Ecosystem in Europe (Online)
DESCRIPTION:Register here\n\n\n\n\n\n\nAbout the event\n\n\n\nThis event aims to unite HPC training providers and stakeholders to discuss current developments in the growing ecosystem of HPC training. We will share experiences\, and identify collaboration opportunities.  \n\n\n\nHPC Training in Europe \n\n\n\nTraining and educating future professionals in advanced HPC practices and digital technologies is crucial for driving scientific research and innovation across European industries. Over the years\, HPC centres have developed extensive training programs on key topics in HPC and related fields like AI and quantum computing. At the same time\, many projects under the EuroHPC umbrella have been initiated to develop education and mentorship programmes\, training material\, and various training platforms. Staying up-to-date with these offerings has become increasingly challenging. \n\n\n\nAgenda\n\n\n\n\n\n\n	 Time (CET)  Topic\n\n\n\n\n	  14:15-15:05 Content creators (4×5 min talks\, 30 min discussion)\n\n• HPC Carpentry (Alan O’Cais)\n• CodeRefinery (Johan Hellsvik or Radovan Bast)\n• Archer2 (David Henty)\n• Aalto Scientific Computing (Richard Darst)\n\n\n\n	15:05-15:15Break\n\n\n	15:15-16:05Infrastructure (4×5 min talks\, 30 min discussion)\n\n• Training Academy (TBD)\n• UNIVERSE-HPC (Steve Crouch)\n• HPCEd (Brian Guilfoos)\n• HPCSPECTRA (Simon Wong)\n\n\n\n	16:05-16:15Break\n\n\n	16:15-17:05Training programs (4×5 min talks\, 30 min discussion)\n\n• CASTIEL and Training baseline (Aline Melinette and Siegfried Höfinger)\n• HPCTRAIN (Karina Pesatova)\n• EUMaster4HPC (Pascal Bouvry)\n• Certification Forum (Kevin Lüdemann)\n\n\n\n\n\n\nJoin us to explore how we can strengthen the HPC training community and collectively advance the European HPC training landscape! \n\n\n\nOrganisers\n\n\n\nENCCS organises the HPC training ecosystem in Europe event together with the EuroCC Competence centres in Finland and Lithuania\, and MultiXscale CoE. \n\n\n\n\n\n\n\nRegulations\n\n\n\nDue to EuroCC2 regulations\, we CAN NOT ACCEPT generic or private email addresses. Please use your official university or company email address for registration. \n\n\n\nThis training is intended is for users residing and working in the European Union or a country associated with Horizon 2020. You can read more about the countries associated with Horizon2020 here https://ec.europa.eu/info/research-and-innovation/statistics/framework-programme-facts-and-figures/horizon-2020-country-profiles_e
URL:https://enccs.se/events/the-hpc-training-ecosystem-in-europe/
CATEGORIES:Collaboration Event,ENCCS Event
ATTACH;FMTTYPE=image/webp:https://media.enccs.se/2024/10/hpc-training-ecosystem.webp
END:VEVENT
BEGIN:VEVENT
DTSTART;TZID=Europe/Stockholm:20241023T090000
DTEND;TZID=Europe/Stockholm:20241025T173000
DTSTAMP:20260421T161753
CREATED:20240910T144511Z
LAST-MODIFIED:20241031T070418Z
UID:35596-1729674000-1729877400@enccs.se
SUMMARY:alpaka & openPMD Workshop + Hackathon (Hybrid)
DESCRIPTION:Register now!\n\n\n\n\nWe are excited to invite you to a dynamic three-day workshop and hackathon focused on two powerful tools for high-performance computing: alpaka and openPMD. This event will bring together developers\, researchers\, and enthusiasts from diverse backgrounds to collaborate\, learn\, and innovate. \n\n\n\nJoin us for an engaging and productive event where innovation meets collaboration. Whether you are new to alpaka and openPMD or an experienced user\, this workshop and hackathon will provide valuable insights and opportunities to advance your skills and projects and in the end\, you will be ready to use these powerful libraries in your own projects. \n\n\n\nThis hackathon is organized by HZDR/CASUS with the Plasma-PEPSC CoE in collaboration with ENCCS and EuroCC@GCS\, High-Performance Computing Center Stuttgart (HLRS)\, Jülich Supercomputing Centre (JSC)\, Leibniz Supercomputing Centre (LRZ) – National Competence Centres for High-Performance Computing. \n\n\n\nPrerequisites and content levels\n\n\n\nPrerequisites\n\n\n\n\nBasic Knowledge of High-Performance Computing (HPC): Participants should have a foundational understanding of HPC concepts\, architectures\, and programming.\n\n\n\nBasic Linux/Unix Skills: Ability to navigate\, use command-line tools\, and perform basic operations in a Linux/Unix environment.\n\n\n\nProgramming Skills: Proficiency in programming languages commonly used in HPC\, such as C\, C++\, Fortran\, or Python. Knowledge of parallel programming paradigms (e.g.\, MPI\, OpenMP) is beneficial.\n\n\n\n\nContent levels\n\n\n\n\nCommunity-target-level: 16 hours\n\n\n\n\nLearn more about course curricula and content levels. \n\n\n\nLocation\n\n\n\nThis hybrid event will take place online and at \n\n\n\nHZDR\,Bautzner Landstrasse 400\,01328 Dresden\, GermanyLecture Hall 106/255 \n\n\n\nLocation and nearby accommodations \n\n\n\nAgenda and registration\n\n\n\nFor more agenda\, registration and more information please visit the official event’s page at https://www.hlrs.de/training/2024/alpaka-openpmd-hack \n\n\n\nRegistration closes on October 11\, 2024 at 23:55 .
URL:https://enccs.se/events/alpaka-openpmd-workshop-hackathon-hybrid/
CATEGORIES:Collaboration Event,ENCCS Event
ATTACH;FMTTYPE=image/jpeg:https://media.enccs.se/2024/09/alpaka-openPMD.jpg
END:VEVENT
END:VCALENDAR