BEGIN:VCALENDAR
VERSION:2.0
PRODID:-//ENCCS - ECPv6.15.16//NONSGML v1.0//EN
CALSCALE:GREGORIAN
METHOD:PUBLISH
X-ORIGINAL-URL:https://enccs.se
X-WR-CALDESC:Events for ENCCS
REFRESH-INTERVAL;VALUE=DURATION:PT1H
X-Robots-Tag:noindex
X-PUBLISHED-TTL:PT1H
BEGIN:VTIMEZONE
TZID:Europe/Stockholm
BEGIN:DAYLIGHT
TZOFFSETFROM:+0100
TZOFFSETTO:+0200
TZNAME:CEST
DTSTART:20190331T010000
END:DAYLIGHT
BEGIN:STANDARD
TZOFFSETFROM:+0200
TZOFFSETTO:+0100
TZNAME:CET
DTSTART:20191027T010000
END:STANDARD
BEGIN:DAYLIGHT
TZOFFSETFROM:+0100
TZOFFSETTO:+0200
TZNAME:CEST
DTSTART:20200329T010000
END:DAYLIGHT
BEGIN:STANDARD
TZOFFSETFROM:+0200
TZOFFSETTO:+0100
TZNAME:CET
DTSTART:20201025T010000
END:STANDARD
BEGIN:DAYLIGHT
TZOFFSETFROM:+0100
TZOFFSETTO:+0200
TZNAME:CEST
DTSTART:20210328T010000
END:DAYLIGHT
BEGIN:STANDARD
TZOFFSETFROM:+0200
TZOFFSETTO:+0100
TZNAME:CET
DTSTART:20211031T010000
END:STANDARD
END:VTIMEZONE
BEGIN:VEVENT
DTSTART;TZID=Europe/Stockholm:20201117T090000
DTEND;TZID=Europe/Stockholm:20201126T120000
DTSTAMP:20260423T011305
CREATED:20201007T160024Z
LAST-MODIFIED:20201202T073150Z
UID:6133-1605603600-1606392000@enccs.se
SUMMARY:CodeRefinery/ENCCS Online Workshop - Tools and Best Practices in Modern Research Software Development
DESCRIPTION:In this course\, you will become familiar with tools and best practices for version control and reproducibility in modern research software development. The main focus is on using Git for efficiently writing and maintaining research software. \nWe will not teach programming\, but we teach the tools you need to use programming well. We assume that you are familiar with the programming language that you use in your work and research. We try to keep the course as language-independent as possible but we will show some basic code examples in Python. \nPre-workshop installation help and verification times \n\nNov 12 (Thu) 13:00 – 14:00\nNov 13 (Fri) 13:00 – 14:00\nJoin anytime during this (preferably not everyone at the very start and end)\n\nDay 1 – Tuesday 17 November 2020\n[ninja_tables id=”6141″] \nDay 2 – Wednesday 18 November 2020\n[ninja_tables id=”6143″]\n \nDay 3 Thursday 19 November 2020\n[ninja_tables id=”6144″]\n \nFriday & Monday 20 & 23 November 2020 – REST \nDay 4 – Tuesday 24 November 2020\n[ninja_tables id=”6145″] \nDay 5 – Wednesday 25 November 2020\n[ninja_tables id=”6146″]\n \nDay 6 Thursday 26 November 2020\n[ninja_tables id=”6154″]\n \nThis is an informal and interactive event with type-along type of presentations\, live coding\, and demos. Short tutorials alternate with practical exercises. \nFurther information and registration: https://coderefinery.github.io/2020-11-17-online/
URL:https://enccs.se/events/online-coderefinery-workshop-nov-17-19-24-26-900-1200/
LOCATION:Online
CATEGORIES:ENCCS Event,Workshop
ATTACH;FMTTYPE=image/jpeg:https://media.enccs.se/2020/09/DSC002091.jpg
END:VEVENT
END:VCALENDAR