BEGIN:VCALENDAR
VERSION:2.0
PRODID:-//ENCCS - ECPv6.15.16//NONSGML v1.0//EN
CALSCALE:GREGORIAN
METHOD:PUBLISH
X-ORIGINAL-URL:https://enccs.se
X-WR-CALDESC:Events for ENCCS
REFRESH-INTERVAL;VALUE=DURATION:PT1H
X-Robots-Tag:noindex
X-PUBLISHED-TTL:PT1H
BEGIN:VTIMEZONE
TZID:Europe/Stockholm
BEGIN:DAYLIGHT
TZOFFSETFROM:+0100
TZOFFSETTO:+0200
TZNAME:CEST
DTSTART:20200329T010000
END:DAYLIGHT
BEGIN:STANDARD
TZOFFSETFROM:+0200
TZOFFSETTO:+0100
TZNAME:CET
DTSTART:20201025T010000
END:STANDARD
BEGIN:DAYLIGHT
TZOFFSETFROM:+0100
TZOFFSETTO:+0200
TZNAME:CEST
DTSTART:20210328T010000
END:DAYLIGHT
BEGIN:STANDARD
TZOFFSETFROM:+0200
TZOFFSETTO:+0100
TZNAME:CET
DTSTART:20211031T010000
END:STANDARD
BEGIN:DAYLIGHT
TZOFFSETFROM:+0100
TZOFFSETTO:+0200
TZNAME:CEST
DTSTART:20220327T010000
END:DAYLIGHT
BEGIN:STANDARD
TZOFFSETFROM:+0200
TZOFFSETTO:+0100
TZNAME:CET
DTSTART:20221030T010000
END:STANDARD
END:VTIMEZONE
BEGIN:VEVENT
DTSTART;TZID=Europe/Stockholm:20210908T090000
DTEND;TZID=Europe/Stockholm:20210909T110000
DTSTAMP:20260422T073343
CREATED:20210705T134801Z
LAST-MODIFIED:20210929T100753Z
UID:10446-1631091600-1631185200@enccs.se
SUMMARY:3rd LUMI/EuroHPC JU Systems Roadshow
DESCRIPTION:Summary\nWelcome to the 3rd LUMI and other EuroHPC JU systems roadshow. Similar to the past events we will update you about the LUMI (Large Unified Modern Infrastructure) and the other six pan-European (pre)exa-scale supercomputers. In addition we will detail on newly accepted access policies valid for all the European High-Performance Computing Joint Undertaking (EuroHPC JU) systems and their usage. We will then continue to present you possibilities of further support towards these systems both as applicants from academia as well as from industry and the public sector. \nFocus will be given to the porting of popular software to LUMI. \nDetails on the event and the schedule will be continuously updated. \nPreliminary Agenda\nWednesday 8th of September 2021 \n[ninja_tables id=”10439″] \nThursday 9th of September 2021 \n[ninja_tables id=”10440″] \nDid you miss the event?\nFollow this link to watch the recording https://enccs.se/news/2021/09/eurohpc-ju-lumi-roadshow-q-a/ \nRegistration\nRegistrations are now closed for this event. Tune back and follow our schedule below for more future events \nFollow our Events Schedule\nFollow us on Twitter and subscribe to our Newsletter to stay tuned to our events and other news.
URL:https://enccs.se/events/3rd-lumi-roadshow-1/
LOCATION:Online
CATEGORIES:ENCCS Event
ATTACH;FMTTYPE=image/jpeg:https://media.enccs.se/2021/07/LUMI-EuroHPC-JU-Roadshow-33.jpg
END:VEVENT
BEGIN:VEVENT
DTSTART;TZID=Europe/Stockholm:20210915T090000
DTEND;TZID=Europe/Stockholm:20210915T120000
DTSTAMP:20260422T073343
CREATED:20210827T091412Z
LAST-MODIFIED:20210923T072750Z
UID:10721-1631696400-1631707200@enccs.se
SUMMARY:A.I as a Tool for Change (Given in Swedish)
DESCRIPTION:Language\nThis workshop will be given in Swedish\, but future versions of the workshop will be given in English. \nBeskrivning\nENCCS med RISE erbjuder en halvdags-utbildning i AI som verktyg för förändring. Tanken är att du som deltagare skall få en förståelse för vad AI är\, vilka sorters problem som kan lösas med teknikerna och hur de kan användas inom en organisation. \nVi kommer att ge en överblick över hur man går tillväga för att använda teknikerna och vilka processerna man går igenom när man tillämpar AI för att lösa problem. Vi kommer också belysa vilka begräsningar teknikerna har\, och ge exempel på när de inte är lämpliga. Upplägg: 3 timmars föreläsning uppdelade i 3 pass. Utbildningen kommer att ledas av Erik Ylipää och Jeanette Nilsson från RISE. \nFörkunskapskrav\nInga. \nSlides\n\nhttps://media.enccs.se/2021/09/akt1.pdf\nhttps://media.enccs.se/2021/09/akt3.pdf\n\nSchema\n[ninja_tables id=”8606″] \nRegistrering\nAlla intresserade är välkomna att registrera genom att följa länken nedanhttps://events.prace-ri.eu/event/1255/registrations/921/
URL:https://enccs.se/events/a-i-as-a-tool-for-change-given-in-swedish-2-2/
LOCATION:Online
CATEGORIES:ENCCS Event,RISE Event
ATTACH;FMTTYPE=image/jpeg:https://media.enccs.se/2021/02/RISE-AI-2.jpg
END:VEVENT
END:VCALENDAR