BEGIN:VCALENDAR
VERSION:2.0
PRODID:-//ENCCS - ECPv6.15.16//NONSGML v1.0//EN
CALSCALE:GREGORIAN
METHOD:PUBLISH
X-ORIGINAL-URL:https://enccs.se
X-WR-CALDESC:Events for ENCCS
REFRESH-INTERVAL;VALUE=DURATION:PT1H
X-Robots-Tag:noindex
X-PUBLISHED-TTL:PT1H
BEGIN:VTIMEZONE
TZID:Europe/Stockholm
BEGIN:DAYLIGHT
TZOFFSETFROM:+0100
TZOFFSETTO:+0200
TZNAME:CEST
DTSTART:20210328T010000
END:DAYLIGHT
BEGIN:STANDARD
TZOFFSETFROM:+0200
TZOFFSETTO:+0100
TZNAME:CET
DTSTART:20211031T010000
END:STANDARD
BEGIN:DAYLIGHT
TZOFFSETFROM:+0100
TZOFFSETTO:+0200
TZNAME:CEST
DTSTART:20220327T010000
END:DAYLIGHT
BEGIN:STANDARD
TZOFFSETFROM:+0200
TZOFFSETTO:+0100
TZNAME:CET
DTSTART:20221030T010000
END:STANDARD
BEGIN:DAYLIGHT
TZOFFSETFROM:+0100
TZOFFSETTO:+0200
TZNAME:CEST
DTSTART:20230326T010000
END:DAYLIGHT
BEGIN:STANDARD
TZOFFSETFROM:+0200
TZOFFSETTO:+0100
TZNAME:CET
DTSTART:20231029T010000
END:STANDARD
END:VTIMEZONE
BEGIN:VEVENT
DTSTART;TZID=Europe/Stockholm:20220518T090000
DTEND;TZID=Europe/Stockholm:20220520T120000
DTSTAMP:20260421T180423
CREATED:20220324T112807Z
LAST-MODIFIED:20230116T102618Z
UID:14147-1652864400-1653048000@enccs.se
SUMMARY:High Performance Data Analytics in Python
DESCRIPTION:Overview\nPython is an industry-standard programming language for working with data on all levels of the data analytics pipeline\, thanks to the rich ecosystem of libraries ranging from generic numerical libraries to special-purpose and/or domain-specific packages which are often supported by large developer communities and stable funding sources. \nThis online workshop is meant to give an overview of working with research data in Python using general libraries for storing\, processing\, analysing and sharing data. The focus is on improving performance. After covering tools for performant processing (netcdf\, numpy\, pandas\, scipy) on single workstations the focus shifts to parallel\, distributed and GPU computing (snakemake\, numba\, dask\, multiprocessing\, mpi4py). \nPreliminary Agenda\nWednesday 18 May 2022 \n[ninja_tables id=”14561″] \nThursday 19 May 2022 \n[ninja_tables id=”14562″] \nFriday 20 May 2022 \n[ninja_tables id=”14563″] \nTutors\n\nQiang Li\, ENCCS\nKjartan Thor Wikfeldt\, ENCCS\n\nRegistration\nThis event is fully booked. \nFor questions regarding this event\, feel free to contact us at training@enccs.se. \n\n\n\nThis training is intended for users established in the European Union or a country associated with Horizon 2020. You can read more about the countries associated with Horizon2020 here https://ec.europa.eu/info/research-and-innovation/statistics/framework-programme-facts-and-figures/horizon-2020-country-profiles_en
URL:https://enccs.se/events/2022-05-hpda-python/
LOCATION:Online
CATEGORIES:ENCCS Event
ATTACH;FMTTYPE=image/jpeg:https://media.enccs.se/2022/03/HPDA-python-workshop-36.jpg
END:VEVENT
END:VCALENDAR