BEGIN:VCALENDAR
VERSION:2.0
PRODID:-//ENCCS - ECPv6.15.16//NONSGML v1.0//EN
CALSCALE:GREGORIAN
METHOD:PUBLISH
X-ORIGINAL-URL:https://enccs.se
X-WR-CALDESC:Events for ENCCS
REFRESH-INTERVAL;VALUE=DURATION:PT1H
X-Robots-Tag:noindex
X-PUBLISHED-TTL:PT1H
BEGIN:VTIMEZONE
TZID:Europe/Stockholm
BEGIN:DAYLIGHT
TZOFFSETFROM:+0100
TZOFFSETTO:+0200
TZNAME:CEST
DTSTART:20210328T010000
END:DAYLIGHT
BEGIN:STANDARD
TZOFFSETFROM:+0200
TZOFFSETTO:+0100
TZNAME:CET
DTSTART:20211031T010000
END:STANDARD
BEGIN:DAYLIGHT
TZOFFSETFROM:+0100
TZOFFSETTO:+0200
TZNAME:CEST
DTSTART:20220327T010000
END:DAYLIGHT
BEGIN:STANDARD
TZOFFSETFROM:+0200
TZOFFSETTO:+0100
TZNAME:CET
DTSTART:20221030T010000
END:STANDARD
BEGIN:DAYLIGHT
TZOFFSETFROM:+0100
TZOFFSETTO:+0200
TZNAME:CEST
DTSTART:20230326T010000
END:DAYLIGHT
BEGIN:STANDARD
TZOFFSETFROM:+0200
TZOFFSETTO:+0100
TZNAME:CET
DTSTART:20231029T010000
END:STANDARD
END:VTIMEZONE
BEGIN:VEVENT
DTSTART;TZID=Europe/Stockholm:20220901T090000
DTEND;TZID=Europe/Stockholm:20220902T130000
DTSTAMP:20260421T113056
CREATED:20220704T092222Z
LAST-MODIFIED:20230116T102617Z
UID:15918-1662022800-1662123600@enccs.se
SUMMARY:CMake Workshop
DESCRIPTION:Overview\nCMake is a language-agnostic\, cross-platform build tool and is nowadays the de facto standard\, with large projects using it to reliably build\, test\, and deploy their codebases. \nWhat you will learn\n\nWrite a CMake build system for C\, C++\, and Fortran projects producing libraries and/or executables.\nRun tests for your code with CTest.\nEnsure your build system will work on different platforms.\nDetect and use external dependencies in your project.\nSafely and effectively build mixed-language projects (Python+compiled language)\n\nLectures will be held by Roberto Di Remigio. \nAgenda\nTo be announced soon. \nRegistration\nRegistrations are open. Please register by following this link https://events.prace-ri.eu/event/1415/registrations/1050/ \n————\nThis training is intended for users established in the European Union or a country associated to Horizon 2020.
URL:https://enccs.se/events/2022-9-cmake-workshop/
LOCATION:Online
CATEGORIES:ENCCS Event
ATTACH;FMTTYPE=image/jpeg:https://media.enccs.se/2020/12/CMake-icon-3d-396.jpg
END:VEVENT
END:VCALENDAR