BEGIN:VCALENDAR
VERSION:2.0
PRODID:-//ENCCS - ECPv6.15.16//NONSGML v1.0//EN
CALSCALE:GREGORIAN
METHOD:PUBLISH
X-ORIGINAL-URL:https://enccs.se
X-WR-CALDESC:Events for ENCCS
REFRESH-INTERVAL;VALUE=DURATION:PT1H
X-Robots-Tag:noindex
X-PUBLISHED-TTL:PT1H
BEGIN:VTIMEZONE
TZID:Europe/Stockholm
BEGIN:DAYLIGHT
TZOFFSETFROM:+0100
TZOFFSETTO:+0200
TZNAME:CEST
DTSTART:20220327T010000
END:DAYLIGHT
BEGIN:STANDARD
TZOFFSETFROM:+0200
TZOFFSETTO:+0100
TZNAME:CET
DTSTART:20221030T010000
END:STANDARD
BEGIN:DAYLIGHT
TZOFFSETFROM:+0100
TZOFFSETTO:+0200
TZNAME:CEST
DTSTART:20230326T010000
END:DAYLIGHT
BEGIN:STANDARD
TZOFFSETFROM:+0200
TZOFFSETTO:+0100
TZNAME:CET
DTSTART:20231029T010000
END:STANDARD
BEGIN:DAYLIGHT
TZOFFSETFROM:+0100
TZOFFSETTO:+0200
TZNAME:CEST
DTSTART:20240331T010000
END:DAYLIGHT
BEGIN:STANDARD
TZOFFSETFROM:+0200
TZOFFSETTO:+0100
TZNAME:CET
DTSTART:20241027T010000
END:STANDARD
END:VTIMEZONE
BEGIN:VEVENT
DTSTART;TZID=Europe/Stockholm:20230307T090000
DTEND;TZID=Europe/Stockholm:20230316T170000
DTSTAMP:20260421T010912
CREATED:20221129T081832Z
LAST-MODIFIED:20230116T104601Z
UID:18447-1678179600-1678986000@enccs.se
SUMMARY:AMD GPU Hackathon
DESCRIPTION:About the event\nDardel is a Swedish flagship supercomputer operated by PDC at KTH in Stockholm. It is an HPE Cray EX system with AMD EPYC™ 64 core CPUs and AMD Instinct MI250X GPUs. Compute time on Dardel is available for academic research via NAISS. \nThis hackathon is for teams of research software developers who want to accomplish one or more of the following goals: \n\nPort their code to run on AMD Instinct™ GPUs using a GPU programming framework like HIP\, OpenMP\, SYCL etc.\nImprove the performance of a code that already runs on AMD Instinct™ GPUs.\nScale up their codes to multiple AMD Instinct™ GPUs.\n\nDuring the hackathon\, project teams will be paired up with expert mentors from HPE\, AMD\, PDC and ENCCS who will guide them during the hackathon to accomplish their stated goals. Teams should have at least two members who are prepared to work full-time on their projects for the duration of the hackathon. We furthermore also strongly encourage diversity in project teams. \nLocation\nThis hackathon will take place over four days split over two weeks. The first day of the hackathon\, March 7\, will be online while the main work will be hosted on-site on KTH Campus at Drottning Kristinas väg 61\, 114 28 in Stockholm\, Sweden\, on March 14-16. \nRequirements\n\nTeams should consist of at least two\, and preferably three\, members who are ready to actively participate during the event.\nTeams should know their application well and have the programming experience to modify the code.\nProjects should be under an open-source license.\n\nNo advanced GPU skills are required\, but it is helpful for teams to know the basics of GPU programming and profiling. Team members should get familiar with aspects of the AMD ROCm™ open software and the AMD HIP programming language (https://docs.amd.com/). \nTravel and accommodation\nAirport (Arlanda) to Stockholm city\nThere are different ways to reach the city from Arlanda airport. \n\nArlanda Express (high-speed train)\nFlygbussarna (Bus)\nPublic transportation (Commuter rail)\n\nAccommodation\nThere are multiple hotels and hostels near Drottning Kristinas väg 61. You can check the following websites for more information \n\nView Stockholm has information on hotels and hostels around and in the Stockholm area\nThe usual suspects in online booking like booking.com and airbnb.com have also large selection of accommodations near the hackathon premises\n\nTentative Agenda\nMarch 7 \n[ninja_tables id=”18404″] \nMarch 13 \n[ninja_tables id=”18405″] \nMarch 14 \n[ninja_tables id=”18406″] \nMarch 15 \n[ninja_tables id=”18407″] \nMarch 16 \n[ninja_tables id=”18408″] \nCompute Resource\nTeams attending the event will be given access to the Dardel system ahead of the hackathon. \nProject Submission\nTo apply for participation in this hackathon please describe your project in detail in the registration form below. Note that all team members should register and fill the “Personal information” section\, but only one person in your team needs to fill the “Project description” section. Applications will be reviewed by an expert panel according to the following requirements: \n\nThe project team should consist of at least two members who know the code well.\nDiversity in the project team.\nThe project should be described in sufficient detail and have well-defined goals for efficiency or for scaling up.\nThe code should have a significant impact (or large potential for significant impact) for a specific organisation or a wide community\nThe code should be open source. A link to the source code should be included in the application.\nProjects should have a build system based on standard tools like Make or CMake\, and teams should be prepared to compile the code on the Dardel system before the hackathon.\nAvailability of expertise needed to successfully support the project.\n\nAhead of the hackathon\, accepted teams should be prepared to: \n\nGo through learning resources on the AMD ROCm™ software ecosystem recommended by the organisers.\nMake an effort to profile their code ahead of the hackathon for relevant input decks to identify performance critical code regions and possibly performance bottlenecks.\nBe ready to (virtually) meet at least once with their expert mentor(s) to prepare for the hackathon.\nInstall\, compile\, and execute their application on Dardel to ensure that nothing is missing in the Dardel environment.\nCommit to providing feedback to PDC/KTH local support team and expert mentors.\n\nRegistration\nPlease register by following this link https://events.prace-ri.eu/event/1469/\nApplication deadline: Feb 7 \nContact\nFor any questions contact us at training@enccs.se \nFollow our Events Schedule\nFollow us on Twitter and subscribe to our Newsletter to stay tuned to our events and other news.\n\n———— \n\n\nThis training is intended for users established in the European Union or a country associated with Horizon 2020. You can read more about the countries associated with Horizon2020 here https://ec.europa.eu/info/research-and-innovation/statistics/framework-programme-facts-and-figures/horizon-2020-country-profiles_en
URL:https://enccs.se/events/2023-03-amd-gpu-hackathon/
LOCATION:Online
CATEGORIES:Collaboration Event,ENCCS Event,Hackathon
ATTACH;FMTTYPE=image/jpeg:https://media.enccs.se/2022/11/amd-hpe-GPU-hackathon.jpg
END:VEVENT
END:VCALENDAR