BEGIN:VCALENDAR
VERSION:2.0
PRODID:-//ENCCS - ECPv6.15.16//NONSGML v1.0//EN
CALSCALE:GREGORIAN
METHOD:PUBLISH
X-ORIGINAL-URL:https://enccs.se
X-WR-CALDESC:Events for ENCCS
REFRESH-INTERVAL;VALUE=DURATION:PT1H
X-Robots-Tag:noindex
X-PUBLISHED-TTL:PT1H
BEGIN:VTIMEZONE
TZID:Europe/Stockholm
BEGIN:DAYLIGHT
TZOFFSETFROM:+0100
TZOFFSETTO:+0200
TZNAME:CEST
DTSTART:20230326T010000
END:DAYLIGHT
BEGIN:STANDARD
TZOFFSETFROM:+0200
TZOFFSETTO:+0100
TZNAME:CET
DTSTART:20231029T010000
END:STANDARD
BEGIN:DAYLIGHT
TZOFFSETFROM:+0100
TZOFFSETTO:+0200
TZNAME:CEST
DTSTART:20240331T010000
END:DAYLIGHT
BEGIN:STANDARD
TZOFFSETFROM:+0200
TZOFFSETTO:+0100
TZNAME:CET
DTSTART:20241027T010000
END:STANDARD
BEGIN:DAYLIGHT
TZOFFSETFROM:+0100
TZOFFSETTO:+0200
TZNAME:CEST
DTSTART:20250330T010000
END:DAYLIGHT
BEGIN:STANDARD
TZOFFSETFROM:+0200
TZOFFSETTO:+0100
TZNAME:CET
DTSTART:20251026T010000
END:STANDARD
END:VTIMEZONE
BEGIN:VEVENT
DTSTART;TZID=Europe/Stockholm:20240403T090000
DTEND;TZID=Europe/Stockholm:20240405T123000
DTSTAMP:20260420T034008
CREATED:20231215T122816Z
LAST-MODIFIED:20240229T091413Z
UID:33102-1712134800-1712320200@enccs.se
SUMMARY:N-ways to GPU Programming Bootcamp
DESCRIPTION:Registrations are now closed for this workshop. \n\n\n\n\n\nLearn the basics of GPU programming\n\n\n\nThe N-Ways to GPU Programming Bootcamp covers the basics of how to use GPUs and provides an overview of different methods for porting scientific application to GPUs using NVIDIA® CUDA®\, OpenACC\, standard languages\, OpenMP offloading\, and/or CuPy and Numba.  \n\n\n\nThroughout the bootcamp\, attendees with learn how to analyze GPU-enabled applications using NVIDIA Nsight™ Systems and participate in hands-on activities to apply these learned skills to real-world problems. \n\n\n\nPrerequisites\n\n\n\n\nBasic experience with C/C++ or Fortran.\n\n\n\nNo GPU programming knowledge required\n\n\n\n\nDisclaimer\n\n\n\nDue to EuroCC2 regulations\, we cannot except generic or private email addresses. Please use your official university or company email address. \n\n\n\nThis training is intended for users established in the European Union or a country associated with Horizon 2020. You can read more about the countries associated with Horizon2020 here https://ec.europa.eu/info/research-and-innovation/statistics/framework-programme-facts-and-figures/horizon-2020-country-profiles_e \n\n\n\nOrganisers\n\n\n\nThis GPU programming basics bootcamp is co-organized by ENCCS along with EuroCC@GCS\, EuroCC Austria\, Jülich Supercomputing Centre (JSC)\, Leibniz Supercomputing Centre (LRZ)\, OpenACC organization\, and NVIDIA. \n\n\n\nAdditional GPU programming material\n\n\n\nAdditionally\, if you want to learn more about GPU related fields\, check our lessons material.
URL:https://enccs.se/events/2023-04-n-ways-to-gpu-programming/
CATEGORIES:Collaboration Event,ENCCS Event
ATTACH;FMTTYPE=image/jpeg:https://media.enccs.se/2023/12/N-ways-to-GPU-Programming-Bootcamp.jpg
END:VEVENT
BEGIN:VEVENT
DTSTART;TZID=Europe/Stockholm:20240411T090000
DTEND;TZID=Europe/Stockholm:20240412T170000
DTSTAMP:20260420T034008
CREATED:20240221T092345Z
LAST-MODIFIED:20240221T092601Z
UID:34478-1712826000-1712941200@enccs.se
SUMMARY:4th Baltic HPC and Cloud Conference
DESCRIPTION:Register\n\n\n\n\n\n\nWelcome to the 4th Baltic HPC and Cloud Conference!  \n\n\n\nAbout\n\n\n\nThe conference will feature a lot of topics\, including talks on innovative uses of HPC and Cloud computing and presentations about HPC/Cloud computing services ranging from EuroHPC supercomputers to Quantum Computing.  \n\n\n\nHistorically\, the conference was organised by Riga Technical University\, HPCEuropa3 project\, University of Tartu\, and KTH Royal Institute of Technology. Since the development of National HPC Competence centres (NCCs) all over the Europe\, the 4th Baltic HPC and Cloud Computing Conference will be organized by six NCCs located near the Baltic sea region: Latvia\, Estonia\, Lithuania\, Sweden\, Finland\, and Denmark. This year\, the conference will take place in Riga on April 11-12\, 2024. \n\n\n\nWho is this conference for?\n\n\n\nThe conference will be especially relevant for different research communities that use HPC\, including: \n\n\n\n\nStudents\n\n\n\nAcademic HPC users\n\n\n\nIndustry users\n\n\n\nHPC experts\n\n\n\n\nWhy you should attend?\n\n\n\n\nA great venue for networking – leading HPC and Cloud Computing community members from Baltic and Nordic countries will be present;\n\n\n\nUnmatched access to the finest HPC minds from Baltic and Nordic countries;\n\n\n\nLatest HPC and Cloud Computing information that you can apply when you return to work;\n\n\n\nSource of inspiration for new ideas and practical uses of HPC and Cloud Computing;\n\n\n\nPractical workshops on HPC and Cloud Computing;\n\n\n\nMeet with leading specialists and solve your HPC or Cloud Computing issues on the spot;\n\n\n\nRiga is an architectural pearl of the Baltic!\n\n\n\n\nAgenda and registration\n\n\n\nFor updated agenda and registration\, please visit https://hpc.rtu.lv/4th-baltic-hpc-and-cloud-conference/?lang=en. \n\n\n\nOrganisers\n\n\n\nThe conference is organized by National HPC Competence Centres (NCCs) in Latvia (SuperS)\, Estonia\, Lithuania\, Sweden (ENCCS)\, Finland (CSC)\, and Denmark (DK-NCC) within the framework of the EuroCC 2 project.
URL:https://enccs.se/events/4th-baltic-hpc-and-cloud-conference/
CATEGORIES:Collaboration Event,ENCCS Event
ATTACH;FMTTYPE=image/png:https://media.enccs.se/2024/02/Baltic-HPC-2024.png
END:VEVENT
BEGIN:VEVENT
DTSTART;TZID=Europe/Stockholm:20240416T100000
DTEND;TZID=Europe/Stockholm:20240418T170000
DTSTAMP:20260420T034008
CREATED:20240205T143114Z
LAST-MODIFIED:20240426T065240Z
UID:34288-1713261600-1713459600@enccs.se
SUMMARY:VASP/EMTO Best Practices Workshop
DESCRIPTION:Training material\n\n\n\n\n\n\n\n\n\n\nENCCS comes together with NAISS to organise the VASP/EMTO Best Practices Workshop. During the workshop we will showcase how to run the VASP (Vienna Ab-initio Simulation Package) and the EMTO (Exact Muffin-Tin Orbitals) packages efficiently on supercomputers.  \n\n\n\nWho is this workshop for?\n\n\n\nThe workshop is mostly suitable for material scientists beginners and intermediate users at different stages and the focus will be on best practices for running VASP and EMTO calculations. Parts of the seminars (to be made available for download) can also be of interest for advanced users. \n\n\n\nThe codes\n\n\n\nVASP is one of the most popular suites of computer codes for atomic scale materials modelling\, e.g. electronic structure calculations and quantum-mechanical molecular dynamics\, from first principles. It is able to predict and give fundamental insights about many properties of materials\, molecular systems\, micro and nanodevices\, biological systems\, in many fields\, providing a huge amount of data for data-driven science applications. \n\n\n\nEMTO is an all-electron density functional theory code based on using the Exact Muffin-Tin Orbitals (EMTO) formalism used in materials science to represent the single-electron wave functions for the optimised overlapping muffin-tin potential. EMTO was developed by the Vitos Group at KTH since 2000. It has been widely used to explore and design complex alloy systems\, especially stainless steels and high entropy alloys/multi-principal element alloys. A short tutorial is availalbe here. \n\n\n\nWhat you will learn\n\n\n\nThis workshop includes: \n\n\n\n\nbasic theory\, DFT and PAW-method\n\n\n\ngeneral introduction to VASP and EMTO\, essential files and parameters\, workflow\n\n\n\nrunning VASP at HPC centers\, CPUs and GPUs (examples from NAISS)\n\n\n\nperformance analysis\n\n\n\ncommon issues\n\n\n\npost-processing tools\n\n\n\nrunning VASP/EMTO calculations step-by-step on the Tetralith and LUMI/Leonardo clusters\n\n\n\n\nPrerequisites\n\n\n\nThis workshop is aimed towards researchers and engineers who already have some previous experience with materials modelling and electronic structure calculations: \n\n\n\n\nBasic experience with using the command line in a Linux/Unix environment and with working on an HPC system\n\n\n\nUseful but not necessary: basic knowledge of electronic structure theory and/or DFT calculations\n\n\n\n\nComputing resources\n\n\n\nParticipants will get access to the Tetralith cluster in Linköping and the EuroHPC JU Leonardo Booster cluster for the hands-on sessions.  \n\n\n\nTentative agenda\n\n\n\nApr. 16 (Tue) \n\n\n\n\n\n\n	TimeTopic\n\n\n\n\n	10:00-10:30Introduction to ENCCS\n\n\n	10:30-12:00EMTO lectures\n\n\n	12:00-13:00Lunch\n\n\n	13:00-15:00Hands-on session (guided)\n\n\n	15:00-17:00Hands-on session\n\n\n\n\n\n\nApr. 17 (Wed) \n\n\n\n\n\n\n	TimeTopic\n\n\n\n\n	10:00-12:00VASP lectures\n\n\n	12:00-13:00Lunch\n\n\n	13:00-15:00Hands-on session (guided)\n\n\n	15:00-17:00Hands-on session\n\n\n\n\n\n\nApr. 18 (Thu) \n\n\n\n\n\n\n	TimeTopic\n\n\n\n\n	10:00-12:00VASP lectures\n\n\n	12:00-13:00Lunch\n\n\n	13:00-15:00Hands-on session (guided)\n\n\n	15:00-17:00Hands-on session\n\n\n\n\n\n\n\nRegister\n\n\n\n\n\n\n\n\nDisclaimer\n\n\n\nDue to EuroCC2 regulations\, we CAN NOT ACCEPT generic or private email addresses. Please use your official university or company email address for registration. \n\n\n\nThis training is for users that live and work in the European Union or a country associated with Horizon 2020. You can read more about the countries associated with Horizon2020 here https://ec.europa.eu/info/research-and-innovation/statistics/framework-programme-facts-and-figures/horizon-2020-country-profiles_e
URL:https://enccs.se/events/vasp-emto-best-practices-workshop/
LOCATION:Online
CATEGORIES:ENCCS Event
ATTACH;FMTTYPE=image/jpeg:https://media.enccs.se/2024/02/VASP-EMTO-best-practices.jpg
END:VEVENT
END:VCALENDAR