BEGIN:VCALENDAR
VERSION:2.0
PRODID:-//ENCCS - ECPv6.15.16//NONSGML v1.0//EN
CALSCALE:GREGORIAN
METHOD:PUBLISH
X-WR-CALNAME:ENCCS
X-ORIGINAL-URL:https://enccs.se
X-WR-CALDESC:Events for ENCCS
REFRESH-INTERVAL;VALUE=DURATION:PT1H
X-Robots-Tag:noindex
X-PUBLISHED-TTL:PT1H
BEGIN:VTIMEZONE
TZID:Europe/Stockholm
BEGIN:DAYLIGHT
TZOFFSETFROM:+0100
TZOFFSETTO:+0200
TZNAME:CEST
DTSTART:20230326T010000
END:DAYLIGHT
BEGIN:STANDARD
TZOFFSETFROM:+0200
TZOFFSETTO:+0100
TZNAME:CET
DTSTART:20231029T010000
END:STANDARD
BEGIN:DAYLIGHT
TZOFFSETFROM:+0100
TZOFFSETTO:+0200
TZNAME:CEST
DTSTART:20240331T010000
END:DAYLIGHT
BEGIN:STANDARD
TZOFFSETFROM:+0200
TZOFFSETTO:+0100
TZNAME:CET
DTSTART:20241027T010000
END:STANDARD
BEGIN:DAYLIGHT
TZOFFSETFROM:+0100
TZOFFSETTO:+0200
TZNAME:CEST
DTSTART:20250330T010000
END:DAYLIGHT
BEGIN:STANDARD
TZOFFSETFROM:+0200
TZOFFSETTO:+0100
TZNAME:CET
DTSTART:20251026T010000
END:STANDARD
END:VTIMEZONE
BEGIN:VEVENT
DTSTART;TZID=Europe/Stockholm:20241211T110000
DTEND;TZID=Europe/Stockholm:20241211T120000
DTSTAMP:20260423T154719
CREATED:20241118T123237Z
LAST-MODIFIED:20241118T123644Z
UID:36338-1733914800-1733918400@enccs.se
SUMMARY:Siesta: Code of the month
DESCRIPTION:Register here\n\n\n\n\n\n\nThe 12th code of the month public session will be on December 11th\, 2024 with a presentation by MaX CoE\, about “SIESTA: a DFT code for large-scale computational material science in HPC environments” \n\n\n\nPlease register using the link below.https://attendee.gotowebinar.com/register/2449943246926877273After registering\, you will receive a confirmation email containing information about joining the webinar. \n\n\n\nSiesta and Computational Materials Science \n\n\n\nComputational materials science has experienced huge progress since the beginning of this century\, due to the combination of the steady increase of the computational power of the HPC centers\, and the advances in the theoretical approaches to solve the basic underlying quantum-mechanical equations. Current pre-exascale and near-future exascale HPC capabilities offer tremendous opportunities for scientific breakthroughs. They also create challenges in making computational codes able to use the potential of these infrastructures.  \n\n\n\nIn this webinar\, we will give a general view of the background of how computational materials science meets these challenges. We begin by formulating the problem at its most basic level. Then place it within the context of modern HPC machines.  \n\n\n\nThen\, we will describe SIESTA\, a code for atomistic materials science simulations\, which is specially designed for efficiency in dealing with systems with a very large number of atoms. I will describe our efforts to make SIESTA ready for the current and future HPC infrastructures\, and the prospects for future developments of the code and this scientific area in general. \n\n\n\nMore events\n\n\n\nCheck out more upcoming events from ENCCS and our European network at https://enccs.se/events.
URL:https://enccs.se/events/siesta-code-of-the-month/
CATEGORIES:External Event
ATTACH;FMTTYPE=image/webp:https://media.enccs.se/2024/11/siesta-code-of-the-month.webp
END:VEVENT
END:VCALENDAR