BEGIN:VCALENDAR
VERSION:2.0
PRODID:-//ENCCS - ECPv6.15.16//NONSGML v1.0//EN
CALSCALE:GREGORIAN
METHOD:PUBLISH
X-ORIGINAL-URL:https://enccs.se
X-WR-CALDESC:Events for ENCCS
REFRESH-INTERVAL;VALUE=DURATION:PT1H
X-Robots-Tag:noindex
X-PUBLISHED-TTL:PT1H
BEGIN:VTIMEZONE
TZID:Europe/Stockholm
BEGIN:DAYLIGHT
TZOFFSETFROM:+0100
TZOFFSETTO:+0200
TZNAME:CEST
DTSTART:20200329T010000
END:DAYLIGHT
BEGIN:STANDARD
TZOFFSETFROM:+0200
TZOFFSETTO:+0100
TZNAME:CET
DTSTART:20201025T010000
END:STANDARD
BEGIN:DAYLIGHT
TZOFFSETFROM:+0100
TZOFFSETTO:+0200
TZNAME:CEST
DTSTART:20210328T010000
END:DAYLIGHT
BEGIN:STANDARD
TZOFFSETFROM:+0200
TZOFFSETTO:+0100
TZNAME:CET
DTSTART:20211031T010000
END:STANDARD
BEGIN:DAYLIGHT
TZOFFSETFROM:+0100
TZOFFSETTO:+0200
TZNAME:CEST
DTSTART:20220327T010000
END:DAYLIGHT
BEGIN:STANDARD
TZOFFSETFROM:+0200
TZOFFSETTO:+0100
TZNAME:CET
DTSTART:20221030T010000
END:STANDARD
END:VTIMEZONE
BEGIN:VEVENT
DTSTART;TZID=Europe/Stockholm:20210416T090000
DTEND;TZID=Europe/Stockholm:20210416T130000
DTSTAMP:20260422T220958
CREATED:20210310T093058Z
LAST-MODIFIED:20210408T110550Z
UID:8699-1618563600-1618578000@enccs.se
SUMMARY:ENCCS/CSC Workshop - HIP101
DESCRIPTION:With the upcoming LUMI supercomputer (https://www.lumi-supercomputer.eu/) arriving this year in Finland\, as well as the Dardel supercomputer (https://www.pdc.kth.se/hpc-services/computing-systems/dardel) arriving this and next year to PDC in Stockholm\, ENCCS and CSC are providing a series of training events for future users of these new systems. \nThe main partitions of both LUMI and Dardel will be based on AMD GPUs – users should thus be ready to port their applications to this new architecture. This training event will be about porting CUDA applications to HIP. It will provide an extensive dive into the Hipify tools and showcase many examples. \nCSC’s Puhti system with Nvidia GPUs will be used for the hands-on part of the training and we will work on a number of different examples in hands-on sessions. This event is open to people affiliated with Swedish universities and industries who want to start using Dardel and LUMI and who have codes that need to be ported to the AMD architecture. Training accounts will be provided for accessing the Puhti supercomputer\nThe deadline for the registration is April 9th. \nLearning Outcome\nAfter this course\, the participants will know how to use the AMD Hipify tools to convert CUDA codes to HIP. They will be familiar with the AMD architecture\, issues that could arise from the code conversion\, and the differences between CUDA and HIP. \nPrerequisites\nIn order to take the course\, the participant should be familiar with GPU concepts and CUDA. Any experience with GPUs is welcome. Examples and exercises will be available in different programming languages\, including Fortran and C. \nAgenda (Times are in CET)\n[ninja_tables id=”8696″] \nRegistration\nRegistrations are closed for this event. Please check our events page for future events. \nContact\nFor any questions contact Thor Wikfeldt at ENCCS (kjartan.thor.wikfeldt@it.uu.se) or Georgios Markomanolis at CSC (georgios.markomanolis@csc.fi). \nFollow our Events Schedule\nFollow us on Twitter and subscribe to our Newsletter to stay tuned to our events and other news.
URL:https://enccs.se/events/enccs-csc-workshop-hip101/
LOCATION:Online
CATEGORIES:ENCCS Event
ATTACH;FMTTYPE=image/jpeg:https://media.enccs.se/2021/03/HIP101.jpg
END:VEVENT
END:VCALENDAR