BEGIN:VCALENDAR
VERSION:2.0
PRODID:-//ENCCS - ECPv6.15.16//NONSGML v1.0//EN
CALSCALE:GREGORIAN
METHOD:PUBLISH
X-WR-CALNAME:ENCCS
X-ORIGINAL-URL:https://enccs.se
X-WR-CALDESC:Events for ENCCS
REFRESH-INTERVAL;VALUE=DURATION:PT1H
X-Robots-Tag:noindex
X-PUBLISHED-TTL:PT1H
BEGIN:VTIMEZONE
TZID:Europe/Stockholm
BEGIN:DAYLIGHT
TZOFFSETFROM:+0100
TZOFFSETTO:+0200
TZNAME:CEST
DTSTART:20200329T010000
END:DAYLIGHT
BEGIN:STANDARD
TZOFFSETFROM:+0200
TZOFFSETTO:+0100
TZNAME:CET
DTSTART:20201025T010000
END:STANDARD
BEGIN:DAYLIGHT
TZOFFSETFROM:+0100
TZOFFSETTO:+0200
TZNAME:CEST
DTSTART:20210328T010000
END:DAYLIGHT
BEGIN:STANDARD
TZOFFSETFROM:+0200
TZOFFSETTO:+0100
TZNAME:CET
DTSTART:20211031T010000
END:STANDARD
BEGIN:DAYLIGHT
TZOFFSETFROM:+0100
TZOFFSETTO:+0200
TZNAME:CEST
DTSTART:20220327T010000
END:DAYLIGHT
BEGIN:STANDARD
TZOFFSETFROM:+0200
TZOFFSETTO:+0100
TZNAME:CET
DTSTART:20221030T010000
END:STANDARD
END:VTIMEZONE
BEGIN:VEVENT
DTSTART;TZID=Europe/Stockholm:20211007T090000
DTEND;TZID=Europe/Stockholm:20211008T130000
DTSTAMP:20260422T124752
CREATED:20210908T102909Z
LAST-MODIFIED:20211004T091124Z
UID:10867-1633597200-1633698000@enccs.se
SUMMARY:CUDA Workshop
DESCRIPTION:About the course\nThese course materials are developed for those who want to learn GPU programming with CUDA from the beginning. The course consists of lectures\, type-along and hands-on sessions. \nDuring the first day\, we will cover the architecture of the GPU accelerators\, basic usage of CUDA\, and how to control data movement between CPUs and GPUs. The second day focuses on more advanced topics\, such as how to optimize computational kernels for efficient execution on GPU hardware and how to explore the task-based parallelism using streams and events. We will also briefly go through profiling tools that can help one to identify the computational bottleneck of the applications. \nAfter the course the participants should have the basic skills needed for using CUDA in new or existing applications. \nWho is the course for?\nThis course is for students\, researchers\, engineers and programmers who would like to learn GPU programming with CUDA. The participants are assumed to have knowledge of C/C++ programming language. Since participants will be using HPC clusters to run the examples\, fluent operation in a Linux/Unix environment is assumed. No prior knowledge of CUDA is needed. \nTentative schedule\nDay 1 – Thursday 7 Oct 2021\n[ninja_tables id=”10871″] \nDay 2 – Friday 8 Oct 2021\n[ninja_tables id=”10874″] \nRegistration\nRegistrations for this workshop are now closed.
URL:https://enccs.se/events/intermediate-openacc-cuda-2/
LOCATION:Online
CATEGORIES:ENCCS Event,Workshop
ATTACH;FMTTYPE=image/jpeg:https://media.enccs.se/2021/09/CUDA-workshop-2021.jpg
END:VEVENT
END:VCALENDAR