BEGIN:VCALENDAR
VERSION:2.0
PRODID:-//ENCCS - ECPv6.15.16//NONSGML v1.0//EN
CALSCALE:GREGORIAN
METHOD:PUBLISH
X-WR-CALNAME:ENCCS
X-ORIGINAL-URL:https://enccs.se
X-WR-CALDESC:Events for ENCCS
REFRESH-INTERVAL;VALUE=DURATION:PT1H
X-Robots-Tag:noindex
X-PUBLISHED-TTL:PT1H
BEGIN:VTIMEZONE
TZID:Europe/Stockholm
BEGIN:DAYLIGHT
TZOFFSETFROM:+0100
TZOFFSETTO:+0200
TZNAME:CEST
DTSTART:20200329T010000
END:DAYLIGHT
BEGIN:STANDARD
TZOFFSETFROM:+0200
TZOFFSETTO:+0100
TZNAME:CET
DTSTART:20201025T010000
END:STANDARD
BEGIN:DAYLIGHT
TZOFFSETFROM:+0100
TZOFFSETTO:+0200
TZNAME:CEST
DTSTART:20210328T010000
END:DAYLIGHT
BEGIN:STANDARD
TZOFFSETFROM:+0200
TZOFFSETTO:+0100
TZNAME:CET
DTSTART:20211031T010000
END:STANDARD
BEGIN:DAYLIGHT
TZOFFSETFROM:+0100
TZOFFSETTO:+0200
TZNAME:CEST
DTSTART:20220327T010000
END:DAYLIGHT
BEGIN:STANDARD
TZOFFSETFROM:+0200
TZOFFSETTO:+0100
TZNAME:CET
DTSTART:20221030T010000
END:STANDARD
END:VTIMEZONE
BEGIN:VEVENT
DTSTART;TZID=Europe/Stockholm:20211207T090000
DTEND;TZID=Europe/Stockholm:20211208T160000
DTSTAMP:20260424T004346
CREATED:20211020T085123Z
LAST-MODIFIED:20211125T120449Z
UID:11325-1638867600-1638979200@enccs.se
SUMMARY:ONLINE PATC: OpenFOAM training workshop
DESCRIPTION:Summary\n\n\n\nOpenFOAM is a widely-used open-source code in computational fluid dynamics (CFD).  OpenFOAM uses finite volume method to solve governing equations of fluid motion through modules written in C++.  This workshop will cover all foundational aspects of OpenFOAM\, including an introduction to OpenFOAM enviroment as well as running on HPC resources.  It will be useful for new users to broaden their basic knowledge of OpenFOAM. \n\n\n\nThe training will run on the KTH PDC Dardel system. For Dardel specs and the details\, see https://www.pdc.kth.se/hpc-services/computing-systems. \n\n\n\nThis course will be provided in cooperation with EXCELLERAT. \n\n\n\nPrerequisites\n\n\n\nBasic knowledge of using Linux will be required. Participants are expected to know basic numerical analysis and have CFD theoretical background. \n\n\n\nRegistration\n\n\n\nYou can register by following this link \n\n\n\nhttps://events.prace-ri.eu/event/1278/registrations/938/
URL:https://enccs.se/events/on-line-patc-openfoam-training-workshop/
LOCATION:Online
CATEGORIES:Collaboration Event,ENCCS Event
ATTACH;FMTTYPE=image/jpeg:https://media.enccs.se/2021/10/OpenFOAM-thumbnail-34.jpg
END:VEVENT
END:VCALENDAR