BEGIN:VCALENDAR
VERSION:2.0
PRODID:-//ENCCS - ECPv6.15.16//NONSGML v1.0//EN
CALSCALE:GREGORIAN
METHOD:PUBLISH
X-WR-CALNAME:ENCCS
X-ORIGINAL-URL:https://enccs.se
X-WR-CALDESC:Events for ENCCS
REFRESH-INTERVAL;VALUE=DURATION:PT1H
X-Robots-Tag:noindex
X-PUBLISHED-TTL:PT1H
BEGIN:VTIMEZONE
TZID:Europe/Stockholm
BEGIN:DAYLIGHT
TZOFFSETFROM:+0100
TZOFFSETTO:+0200
TZNAME:CEST
DTSTART:20240331T010000
END:DAYLIGHT
BEGIN:STANDARD
TZOFFSETFROM:+0200
TZOFFSETTO:+0100
TZNAME:CET
DTSTART:20241027T010000
END:STANDARD
BEGIN:DAYLIGHT
TZOFFSETFROM:+0100
TZOFFSETTO:+0200
TZNAME:CEST
DTSTART:20250330T010000
END:DAYLIGHT
BEGIN:STANDARD
TZOFFSETFROM:+0200
TZOFFSETTO:+0100
TZNAME:CET
DTSTART:20251026T010000
END:STANDARD
BEGIN:DAYLIGHT
TZOFFSETFROM:+0100
TZOFFSETTO:+0200
TZNAME:CEST
DTSTART:20260329T010000
END:DAYLIGHT
BEGIN:STANDARD
TZOFFSETFROM:+0200
TZOFFSETTO:+0100
TZNAME:CET
DTSTART:20261025T010000
END:STANDARD
END:VTIMEZONE
BEGIN:VEVENT
DTSTART;TZID=Europe/Stockholm:20250407T133000
DTEND;TZID=Europe/Stockholm:20250409T123000
DTSTAMP:20260421T120719
CREATED:20250307T153531Z
LAST-MODIFIED:20250317T142836Z
UID:36604-1744032600-1744201800@enccs.se
SUMMARY:PIC (BIT1) modelling of the fusion plasma edge
DESCRIPTION:Register here\n\n\n\n\n\n\n\n\nAbout this workshop\n\n\n\nWe invite you at the BIT1 modelling of the fusion plasma edge will take place in Prague\, Czech Republic\, from Monday 7th to Wednesday 9th April 2025. The meeting is organized by the Plasma-PEPSC CoE in collaboration with IPP CAS\, LECAD\, ENCCS and Slovenian and Czech NCCs.  \n\n\n\nBIT1 is an electrostatic Particle in Cell (PIC) Monte Carlo (MC) code optimized for plasma edge modelling. It is 1D in usual and 3D in velocity space. The code is capable of simulating large scale systems with finest resolution in time and space. \n\n\n\nDuring the meeting we 1) introduce the BIT1 code; 2) explain its modelling capabilities; 3) perform training sessions for users of different level; 4) consider examples of other PIC and MC codes; 5) discuss future developments related to exascale and multi-dimensional versions of the code (BIT2\,3) .  \n\n\n\nThe meeting is addressed to plasma edge specialists\, PhD/Master students\, industry engineers\, who want to learn (or improve their knowledge in) PIC modeling of the plasma edge and satisfy the prerequisites. \n\n\n\nPrerequisites\n\n\n\n•    Basic familiarity with plasma physics•    Basic familiarity with Unix shell•    Basic familiarity with HPC environment is helpful but not mandatory \n\n\n\nThe format of the conference will be hybrid\, i.e. remote partecipations will be accepted too. \n\n\n\nFor optimal use of the meeting time the participants can provide in advance the details of the 1D system they want to simulate (tskhakaya@ipp.cas.cz).  \n\n\n\nConference venue\n\n\n\nThe conference is organized at the Institute of Plasma Physics of the Czech Academy of Sciences (IPP CAS)\, U Slovanky 1a\, 18200 Prague. \n\n\n\nMore events & contact\n\n\n\nCheck out more upcoming events from ENCCS and our European network at https://enccs.se/events. \n\n\n\nFor questions regarding this workshop or general questions about ENNCS training events\, please contact training@enccs.se \n\n\n\n\n\n\n\nRegulations\n\n\n\nDue to EuroCC2 regulations\, we CAN NOT ACCEPT generic or private email addresses. Please use your official university or company email address for registration. \n\n\n\nThis training is for users who live and work in the European Union or a country associated with Horizon 2020. You can read more about the countries associated with Horizon2020 HERE.
URL:https://enccs.se/events/pic-bit1-modelling-of-the-fusion-plasma-edge/
CATEGORIES:ENCCS Event
ATTACH;FMTTYPE=image/webp:https://media.enccs.se/2025/03/plasma-pepsc_workshop.webp
END:VEVENT
END:VCALENDAR