BEGIN:VCALENDAR
VERSION:2.0
PRODID:-//ENCCS - ECPv6.15.16//NONSGML v1.0//EN
CALSCALE:GREGORIAN
METHOD:PUBLISH
X-WR-CALNAME:ENCCS
X-ORIGINAL-URL:https://enccs.se
X-WR-CALDESC:Events for ENCCS
REFRESH-INTERVAL;VALUE=DURATION:PT1H
X-Robots-Tag:noindex
X-PUBLISHED-TTL:PT1H
BEGIN:VTIMEZONE
TZID:Europe/Stockholm
BEGIN:DAYLIGHT
TZOFFSETFROM:+0100
TZOFFSETTO:+0200
TZNAME:CEST
DTSTART:20200329T010000
END:DAYLIGHT
BEGIN:STANDARD
TZOFFSETFROM:+0200
TZOFFSETTO:+0100
TZNAME:CET
DTSTART:20201025T010000
END:STANDARD
BEGIN:DAYLIGHT
TZOFFSETFROM:+0100
TZOFFSETTO:+0200
TZNAME:CEST
DTSTART:20210328T010000
END:DAYLIGHT
BEGIN:STANDARD
TZOFFSETFROM:+0200
TZOFFSETTO:+0100
TZNAME:CET
DTSTART:20211031T010000
END:STANDARD
BEGIN:DAYLIGHT
TZOFFSETFROM:+0100
TZOFFSETTO:+0200
TZNAME:CEST
DTSTART:20220327T010000
END:DAYLIGHT
BEGIN:STANDARD
TZOFFSETFROM:+0200
TZOFFSETTO:+0100
TZNAME:CET
DTSTART:20221030T010000
END:STANDARD
END:VTIMEZONE
BEGIN:VEVENT
DTSTART;TZID=Europe/Stockholm:20211111T100000
DTEND;TZID=Europe/Stockholm:20211111T150000
DTSTAMP:20260422T065024
CREATED:20211006T090431Z
LAST-MODIFIED:20211112T084654Z
UID:11102-1636624800-1636642800@enccs.se
SUMMARY:Training on HPDA for climate data with the Ophidia framework
DESCRIPTION:Overview\nDue to the continuous increase of data volumes that many scientific domains are facing\, advances in science have become dependent on the availability of scalable analysis tools able to effectively cope with these massive datasets. \nThis online training course aims to provide a basic understanding of HPDA challenges for eScience and how these are addressed by the Ophidia HPDA framework. Ophidia is a CMCC Foundation research effort targeting scientific data-intensive analysis\, by joining HPC paradigms and Big Data approaches. The framework specifically targets the analysis on top of HPC systems and is currently involved in the ESiWACE2 CoE and the eFlows4HPC EuroHPC JU projects for large-scale scientific data analytics. \nThe training will provide an overview of the framework features covering both interactive analysis and complex data analytics workflows on HPC infrastructures. It will include examples of real climate analysis applications with the Ophidia framework as well as hands-on sessions to practice the concepts presented. \nPrerequisites\nBasic knowledge of Python\, Jupyter Notebooks\, Linux\, and the NetCDF data format is required to fully take advantage of this training course. Moreover\, general knowledge of climate data aspects is recommended. \nAgenda\nThursday 11th November 2021\n[ninja_tables id=”11109″] \nPresentation Slides\n\nOphidia_workflow_training\nOphidia_intro_training\n\nRegistration\nRegistrations are now closed. \n————\nThis training is intended for users established in the European Union or a country associated to Horizon 2020.
URL:https://enccs.se/events/hpda-with-ophidia/
LOCATION:Online
CATEGORIES:ENCCS Event
ATTACH;FMTTYPE=image/jpeg:https://media.enccs.se/2021/10/Ophidia-training.jpg
END:VEVENT
END:VCALENDAR