BEGIN:VCALENDAR
VERSION:2.0
PRODID:-//ENCCS - ECPv6.15.16//NONSGML v1.0//EN
CALSCALE:GREGORIAN
METHOD:PUBLISH
X-ORIGINAL-URL:https://enccs.se
X-WR-CALDESC:Events for ENCCS
REFRESH-INTERVAL;VALUE=DURATION:PT1H
X-Robots-Tag:noindex
X-PUBLISHED-TTL:PT1H
BEGIN:VTIMEZONE
TZID:Europe/Stockholm
BEGIN:DAYLIGHT
TZOFFSETFROM:+0100
TZOFFSETTO:+0200
TZNAME:CEST
DTSTART:20220327T010000
END:DAYLIGHT
BEGIN:STANDARD
TZOFFSETFROM:+0200
TZOFFSETTO:+0100
TZNAME:CET
DTSTART:20221030T010000
END:STANDARD
BEGIN:DAYLIGHT
TZOFFSETFROM:+0100
TZOFFSETTO:+0200
TZNAME:CEST
DTSTART:20230326T010000
END:DAYLIGHT
BEGIN:STANDARD
TZOFFSETFROM:+0200
TZOFFSETTO:+0100
TZNAME:CET
DTSTART:20231029T010000
END:STANDARD
BEGIN:DAYLIGHT
TZOFFSETFROM:+0100
TZOFFSETTO:+0200
TZNAME:CEST
DTSTART:20240331T010000
END:DAYLIGHT
BEGIN:STANDARD
TZOFFSETFROM:+0200
TZOFFSETTO:+0100
TZNAME:CET
DTSTART:20241027T010000
END:STANDARD
END:VTIMEZONE
BEGIN:VEVENT
DTSTART;TZID=Europe/Stockholm:20230926T090000
DTEND;TZID=Europe/Stockholm:20230926T123000
DTSTAMP:20260423T084857
CREATED:20230822T095140Z
LAST-MODIFIED:20230822T095350Z
UID:27367-1695718800-1695731400@enccs.se
SUMMARY:AI on HPC
DESCRIPTION:Are you an AI developer that is interested in scaling up and use supercomputers? \n\n\n\nEuroHPC JU is organising a three-hours virtual event\, an Information Day called “AI on HPC”\, about: \n\n\n\n\nhow EuroHPC JU supercomputers can be used for AI applications\,\n\n\n\nthe access possibilities to these supercomputers\,\n\n\n\nthe current and upcoming AI related calls and activities\,\n\n\n\nthe support possibilities of EuroCC national competence centres\n\n\n\nexamples of numerous success stories that used many of the possibilities provided by EuroHPC JU.\n\n\n\n\nYou can learn more about this event and register using the link below.https://eurohpc-ju.europa.eu/news-events/events/eurohpc-ju-information-day-ai-supercomputers-virtual-2023-09-26_en
URL:https://enccs.se/events/ai-on-hpc/
LOCATION:Online
CATEGORIES:External Event
ATTACH;FMTTYPE=image/jpeg:https://media.enccs.se/2023/08/AI-on-HPC-JU.jpg
END:VEVENT
END:VCALENDAR