BEGIN:VCALENDAR
VERSION:2.0
PRODID:-//ENCCS - ECPv6.15.16//NONSGML v1.0//EN
CALSCALE:GREGORIAN
METHOD:PUBLISH
X-ORIGINAL-URL:https://enccs.se
X-WR-CALDESC:Events for ENCCS
REFRESH-INTERVAL;VALUE=DURATION:PT1H
X-Robots-Tag:noindex
X-PUBLISHED-TTL:PT1H
BEGIN:VTIMEZONE
TZID:Europe/Stockholm
BEGIN:DAYLIGHT
TZOFFSETFROM:+0100
TZOFFSETTO:+0200
TZNAME:CEST
DTSTART:20210328T010000
END:DAYLIGHT
BEGIN:STANDARD
TZOFFSETFROM:+0200
TZOFFSETTO:+0100
TZNAME:CET
DTSTART:20211031T010000
END:STANDARD
BEGIN:DAYLIGHT
TZOFFSETFROM:+0100
TZOFFSETTO:+0200
TZNAME:CEST
DTSTART:20220327T010000
END:DAYLIGHT
BEGIN:STANDARD
TZOFFSETFROM:+0200
TZOFFSETTO:+0100
TZNAME:CET
DTSTART:20221030T010000
END:STANDARD
BEGIN:DAYLIGHT
TZOFFSETFROM:+0100
TZOFFSETTO:+0200
TZNAME:CEST
DTSTART:20230326T010000
END:DAYLIGHT
BEGIN:STANDARD
TZOFFSETFROM:+0200
TZOFFSETTO:+0100
TZNAME:CET
DTSTART:20231029T010000
END:STANDARD
END:VTIMEZONE
BEGIN:VEVENT
DTSTART;TZID=Europe/Stockholm:20221026T130000
DTEND;TZID=Europe/Stockholm:20221026T170000
DTSTAMP:20260423T123836
CREATED:20221018T115401Z
LAST-MODIFIED:20241031T065520Z
UID:17703-1666789200-1666803600@enccs.se
SUMMARY:Workshop on Hyperparameter Optimization and Distributed Training
DESCRIPTION:AIDA invites our technical community to an AIDA-day on Zoom where we will deep dive into hot topics in AI training. Our keynote speaker\, Veronika Cheplygina\, IT University Copenhagen DK\, is invited to present her recent paper on methodological failures in ML for medical imaging and to discuss her interesting work on tackling limited access to labelled data.\n\nWe continue with a workshop structured to cover two important aspects of training deep neural networks. The workshop tutor Erik Ylipää\, ENCCS/RISE\, will guide us through the two sessions: “Hyperparameter optimization using Optuna” and “Distributed PyTorch training: single and multiple node training”. The workshop will mostly follow a “code-along” structure with material distributed in advance. You are welcome to prepare questions\, both general and specific in detail\, to discuss\, break down and hopefully problem-solve.\n\nFor those of you who are not technical experts we recommend you take part in AIDA’s regular internal meeting and listen to the keynote presentation.\n\nFurther reads: https://www.nature.com/articles/s41746-022-00592-y – Veronika Cheplygina\nDate and time: October 26\, 13.00-17.00 (Zoom). \n13.00-13.45 Keynote Veronika Cheplygina\n13.45-17.00 Technical workshop \nPlease register (for the whole or a certain part of the AIDA day at):https://forms.office.com/r/emkTX7BsFA \nZoom link will be distributed to registered participants prior to the meeting\n\nMost Welcome!\n\nAIDA organizes these AIDA-day meetings for affiliated parties. As a part external to AIDA you are very welcome to visit us as a guest for 1-2 events to get a better picture of our organization. Please contact caroline.bivik.stadler@liu.se if you want more information about AIDA and the benefits of becoming a network partner.
URL:https://enccs.se/events/2022-10-hyperparameter-optimization-and-distributed-training/
LOCATION:Online
ATTACH;FMTTYPE=image/jpeg:https://media.enccs.se/2022/10/Hyperparameter-optimization.jpg
END:VEVENT
END:VCALENDAR