BEGIN:VCALENDAR
VERSION:2.0
PRODID:-//ENCCS - ECPv6.15.16//NONSGML v1.0//EN
CALSCALE:GREGORIAN
METHOD:PUBLISH
X-WR-CALNAME:ENCCS
X-ORIGINAL-URL:https://enccs.se
X-WR-CALDESC:Events for ENCCS
REFRESH-INTERVAL;VALUE=DURATION:PT1H
X-Robots-Tag:noindex
X-PUBLISHED-TTL:PT1H
BEGIN:VTIMEZONE
TZID:Europe/Stockholm
BEGIN:DAYLIGHT
TZOFFSETFROM:+0100
TZOFFSETTO:+0200
TZNAME:CEST
DTSTART:20230326T010000
END:DAYLIGHT
BEGIN:STANDARD
TZOFFSETFROM:+0200
TZOFFSETTO:+0100
TZNAME:CET
DTSTART:20231029T010000
END:STANDARD
BEGIN:DAYLIGHT
TZOFFSETFROM:+0100
TZOFFSETTO:+0200
TZNAME:CEST
DTSTART:20240331T010000
END:DAYLIGHT
BEGIN:STANDARD
TZOFFSETFROM:+0200
TZOFFSETTO:+0100
TZNAME:CET
DTSTART:20241027T010000
END:STANDARD
BEGIN:DAYLIGHT
TZOFFSETFROM:+0100
TZOFFSETTO:+0200
TZNAME:CEST
DTSTART:20250330T010000
END:DAYLIGHT
BEGIN:STANDARD
TZOFFSETFROM:+0200
TZOFFSETTO:+0100
TZNAME:CET
DTSTART:20251026T010000
END:STANDARD
END:VTIMEZONE
BEGIN:VEVENT
DTSTART;TZID=Europe/Stockholm:20240926T173000
DTEND;TZID=Europe/Stockholm:20240926T203000
DTSTAMP:20260422T121853
CREATED:20240920T122646Z
LAST-MODIFIED:20240920T125106Z
UID:35691-1727371800-1727382600@enccs.se
SUMMARY:Python performance mini-workshop (in-person only)
DESCRIPTION:📍SUNET\, Tulegatan 11\, Stockholm \n\n\n\n\nRegister on meetup.com\n\n\n\n\n\n\nOverview\n\n\n\nJoin us at the Stockholm Python Group meetup to learn more about Python performance\, profiling\, and parallelising. \n\n\n\nWho is this Python performance mini-workshop for?\n\n\n\nThis mini-workshop is intended for Python developers who are interested in writing code with better performance and potentially running it on supercomputers. \n\n\n\nRegister on the meetup page https://www.meetup.com/pysthlm/events/303406329/?eventOrigin=group_upcoming_events \n\n\n\nLesson material\n\n\n\nCheck our lesson material which is also suitable for self-learning.
URL:https://enccs.se/events/python-performance-mini-workshop/
LOCATION:SUNET\, Tulegatan 11\, Stockholm\, Tulegatan 11\, Stockholm\, Sweden
CATEGORIES:ENCCS Event
ATTACH;FMTTYPE=image/webp:https://media.enccs.se/2024/09/python-meetup.webp
END:VEVENT
END:VCALENDAR