BEGIN:VCALENDAR
VERSION:2.0
PRODID:-//ENCCS - ECPv6.15.16//NONSGML v1.0//EN
CALSCALE:GREGORIAN
METHOD:PUBLISH
X-WR-CALNAME:ENCCS
X-ORIGINAL-URL:https://enccs.se
X-WR-CALDESC:Events for ENCCS
REFRESH-INTERVAL;VALUE=DURATION:PT1H
X-Robots-Tag:noindex
X-PUBLISHED-TTL:PT1H
BEGIN:VTIMEZONE
TZID:Europe/Stockholm
BEGIN:DAYLIGHT
TZOFFSETFROM:+0100
TZOFFSETTO:+0200
TZNAME:CEST
DTSTART:20220327T010000
END:DAYLIGHT
BEGIN:STANDARD
TZOFFSETFROM:+0200
TZOFFSETTO:+0100
TZNAME:CET
DTSTART:20221030T010000
END:STANDARD
BEGIN:DAYLIGHT
TZOFFSETFROM:+0100
TZOFFSETTO:+0200
TZNAME:CEST
DTSTART:20230326T010000
END:DAYLIGHT
BEGIN:STANDARD
TZOFFSETFROM:+0200
TZOFFSETTO:+0100
TZNAME:CET
DTSTART:20231029T010000
END:STANDARD
BEGIN:DAYLIGHT
TZOFFSETFROM:+0100
TZOFFSETTO:+0200
TZNAME:CEST
DTSTART:20240331T010000
END:DAYLIGHT
BEGIN:STANDARD
TZOFFSETFROM:+0200
TZOFFSETTO:+0100
TZNAME:CET
DTSTART:20241027T010000
END:STANDARD
END:VTIMEZONE
BEGIN:VEVENT
DTSTART;TZID=Europe/Stockholm:20230418T090000
DTEND;TZID=Europe/Stockholm:20230419T160000
DTSTAMP:20260421T002125
CREATED:20230315T104704Z
LAST-MODIFIED:20230405T110317Z
UID:23019-1681808400-1681920000@enccs.se
SUMMARY:Advanced Deep Learning with Transformers
DESCRIPTION:Overview\n\n\n\nIn recent years\, Graph Neural Networks (GNNs) and Transformers have led to numerous breakthrough achievements in a variety of fields such as Natural Language Processing (NLP)\, chemistry\, and physics. By doing away with the need for fixed-size inputs\, these architectures significantly extend the scope of problems to which deep learning can be applied. \n\n\n\nThis workshop will take you from the representation of graphs and finite sets as inputs for neural networks to the implementation of full GNNs for a variety of tasks. You will learn about the central concepts used in GNNs in a hands-on setting using Jupyter Notebooks and a series of coding exercises. While the workshop will use problems from the field of chemistry as an example for applications\, the skills you learn can be transferred to any domain where finite set or graph-based representations of data are appropriate. From GNNs\, we will make the leap to Transformer architectures\, and explain the conceptual ties between the two. \n\n\n\nThe workshop is free of charge and will be conducted entirely online using zoom. \n\n\n\nPrerequisites\n\n\n\nTo successfully participate in this workshop\, you should have a good understanding of linear algebra and core concepts of deep learning such as CNNs\, stochastic gradient descent\, and supervised learning. You should also be familiar with the implementation of neural networks using PyTorch. A basic conceptual understanding of mathematical graphs is recommended but not a prerequisite. \n\n\n\nAgenda\n\n\n\nTo be announced soon. \n\n\n\nRegistration\n\n\n\nThis event is fully booked. \n\n\n\nFollow our Events Schedule\n\n\n\nFollow us on Twitter and subscribe to our Newsletter to stay tuned to our events and other news. \n\n\n\n———— \n\n\n\nThis training is intended for users established in the European Union or a country associated with Horizon 2020. You can read more about the countries associated with Horizon2020 here https://ec.europa.eu/info/research-and-innovation/statistics/framework-programme-facts-and-figures/horizon-2020-country-profiles_en
URL:https://enccs.se/events/2023-02-advanced-dl-with-transformers/
LOCATION:Online
CATEGORIES:ENCCS Event
ATTACH;FMTTYPE=image/jpeg:https://media.enccs.se/2023/03/Deep-learning-with-Transformers-345.jpg
END:VEVENT
END:VCALENDAR